BEGIN:VCALENDAR
VERSION:2.0
PRODID:-//Col George L Willard Camp 154  NY SUVCW - ECPv6.15.20//NONSGML v1.0//EN
CALSCALE:GREGORIAN
METHOD:PUBLISH
X-ORIGINAL-URL:https://glwillard154.org
X-WR-CALDESC:Events for Col George L Willard Camp 154  NY SUVCW
REFRESH-INTERVAL;VALUE=DURATION:PT1H
X-Robots-Tag:noindex
X-PUBLISHED-TTL:PT1H
BEGIN:VTIMEZONE
TZID:UTC
BEGIN:STANDARD
TZOFFSETFROM:+0000
TZOFFSETTO:+0000
TZNAME:UTC
DTSTART:20210101T000000
END:STANDARD
END:VTIMEZONE
BEGIN:VEVENT
DTSTART;TZID=UTC:20220108T093000
DTEND;TZID=UTC:20220108T120000
DTSTAMP:20260420T030750
CREATED:20220107T205916Z
LAST-MODIFIED:20220107T210021Z
UID:3034-1641634200-1641643200@glwillard154.org
SUMMARY:January Camp Meeting and Installation of Camp Officers – Saturday\, January 8th\, 10 am @ Online Zoom Video Meeting
DESCRIPTION:January Camp Meeting – Saturday\, January 8th\, 10 am @ Online Zoom Video Meeting\, the meeting will be conducted online. Installation of Camp Officers. \nBrothers of the camp have received an invitation to join in on the meeting. If you did not receive an invitation or would like to attend please contact Bro. Frank Rogler
URL:https://glwillard154.org/event/january-camp-meeting-and-installation-of-camp-officers-saturday-january-8th-10-am-online-zoom-video-meeting
LOCATION:Online Zoom Video Meeting\, United States
ATTACH;FMTTYPE=image/jpeg:https://glwillard154.org/wp-content/uploads/2022/01/zoom-logo-fixed-1.jpg
END:VEVENT
END:VCALENDAR