BEGIN:VCALENDAR
VERSION:2.0
PRODID:-//Col George L Willard Camp 154  NY SUVCW - ECPv6.15.20//NONSGML v1.0//EN
CALSCALE:GREGORIAN
METHOD:PUBLISH
X-WR-CALNAME:Col George L Willard Camp 154  NY SUVCW
X-ORIGINAL-URL:https://glwillard154.org
X-WR-CALDESC:Events for Col George L Willard Camp 154  NY SUVCW
REFRESH-INTERVAL;VALUE=DURATION:PT1H
X-Robots-Tag:noindex
X-PUBLISHED-TTL:PT1H
BEGIN:VTIMEZONE
TZID:UTC
BEGIN:STANDARD
TZOFFSETFROM:+0000
TZOFFSETTO:+0000
TZNAME:UTC
DTSTART:20220101T000000
END:STANDARD
END:VTIMEZONE
BEGIN:VTIMEZONE
TZID:America/New_York
BEGIN:DAYLIGHT
TZOFFSETFROM:-0500
TZOFFSETTO:-0400
TZNAME:EDT
DTSTART:20240310T070000
END:DAYLIGHT
BEGIN:STANDARD
TZOFFSETFROM:-0400
TZOFFSETTO:-0500
TZNAME:EST
DTSTART:20241103T060000
END:STANDARD
BEGIN:DAYLIGHT
TZOFFSETFROM:-0500
TZOFFSETTO:-0400
TZNAME:EDT
DTSTART:20250309T070000
END:DAYLIGHT
BEGIN:STANDARD
TZOFFSETFROM:-0400
TZOFFSETTO:-0500
TZNAME:EST
DTSTART:20251102T060000
END:STANDARD
BEGIN:DAYLIGHT
TZOFFSETFROM:-0500
TZOFFSETTO:-0400
TZNAME:EDT
DTSTART:20260308T070000
END:DAYLIGHT
BEGIN:STANDARD
TZOFFSETFROM:-0400
TZOFFSETTO:-0500
TZNAME:EST
DTSTART:20261101T060000
END:STANDARD
END:VTIMEZONE
BEGIN:VEVENT
DTSTART;TZID=UTC:20230527T090000
DTEND;TZID=UTC:20230527T110000
DTSTAMP:20260419T224802
CREATED:20230512T131857Z
LAST-MODIFIED:20230512T133536Z
UID:3170-1685178000-1685185200@glwillard154.org
SUMMARY:Oakwood Cemetery Memorial Day Ceremony
DESCRIPTION:May 27th Assemble @ 8:30 AM\, Start time @ 9:00 AM\, Oakwood Cemetery\, Troy. We will meet at the Vanderheyden Memorial Bell at 8:30. Color Guard\, Civil War\, or Camp Uniform. There will be the ringing of the Meneely Bell\, wreath-laying\, and placement of flags at the Soldiers’ Plot.\nIf you are available and can attend please contact Bro. Richard E. Straight\, PDC at your earliest convenience. 
URL:https://glwillard154.org/event/oakwood-cemetery-memorial-day-ceremony-2
LOCATION:Oakwood Cemetery\, Troy\, NY\, United States
ATTACH;FMTTYPE=image/jpeg:https://glwillard154.org/wp-content/uploads/2018/05/gar-events.jpg
END:VEVENT
BEGIN:VEVENT
DTSTART;TZID=UTC:20230530T110000
DTEND;TZID=UTC:20230530T130000
DTSTAMP:20260419T224802
CREATED:20230512T132514Z
LAST-MODIFIED:20230512T132533Z
UID:3175-1685444400-1685451600@glwillard154.org
SUMMARY:Unknown Soldier Memorial Bench Dedication
DESCRIPTION:The camp will be dedicating a Memorial Bench at Saratoga National\, Tuesday\, May 30th at 11:00 am at Saratoga National Cemetery.
URL:https://glwillard154.org/event/saratoga-national-cemetery-unknown-soldier-memorial-bench-dedication
LOCATION:Saratoga National Cemetery\, 200 Duell Rd.\, Schuylerville\, NY\, 12871\, United States
ATTACH;FMTTYPE=image/jpeg:https://glwillard154.org/wp-content/uploads/2023/05/bench-program.jpg
END:VEVENT
BEGIN:VEVENT
DTSTART;TZID=UTC:20230617T120000
DTEND;TZID=UTC:20230617T150000
DTSTAMP:20260419T224802
CREATED:20230512T134643Z
LAST-MODIFIED:20230527T013817Z
UID:3190-1687003200-1687014000@glwillard154.org
SUMMARY:Annual Camp Lincoln Luncheon
DESCRIPTION:Lincoln Luncheon at the Turf Tavern in Scotia 12:00 pm Social Time\, 1:00 pm Dinner. The cost of the dinner is $ 31.20.\nFor more information and to RSVP visit: http://glwillard154.org/events/the-lincoln-luncheon
URL:https://glwillard154.org/event/lincoln-luncheon
LOCATION:The Turf Tavern\, 40 Mohawk Ave.\, Scotia\, NY\, 12302\, United States
ATTACH;FMTTYPE=image/jpeg:https://glwillard154.org/wp-content/uploads/2023/05/DSCN7816-1-580x435-1.jpg
END:VEVENT
BEGIN:VEVENT
DTSTART;VALUE=DATE:20230803
DTEND;VALUE=DATE:20230807
DTSTAMP:20260419T224802
CREATED:20230512T140600Z
LAST-MODIFIED:20230512T140602Z
UID:3204-1691020800-1691366399@glwillard154.org
SUMMARY:2023 National SUVCW Encampment
DESCRIPTION:National SUVCW Encampment in Nashua\, NH\, August 3rd-6th.\nFor more information visit: https://suvcw.org/2023-national-encampment
URL:https://glwillard154.org/event/2023-national-suvcw-encampment
LOCATION:Courtyard by Marriott\, 2200 Southwood Dr.\, Nashua\, NH\, 03063\, United States
ATTACH;FMTTYPE=image/png:https://glwillard154.org/wp-content/uploads/2023/05/logo.png
END:VEVENT
BEGIN:VEVENT
DTSTART;TZID=UTC:20230902T100000
DTEND;TZID=UTC:20230902T120000
DTSTAMP:20260419T224802
CREATED:20230512T132755Z
LAST-MODIFIED:20230512T132909Z
UID:3180-1693648800-1693656000@glwillard154.org
SUMMARY:September Camp Meeting
DESCRIPTION:Monthly camp meeting at 10:00 am.
URL:https://glwillard154.org/event/june-camp-meeting-3
LOCATION:Watervliet Senior Citizens Center\, 1501 Broadway\, Watervliet\, NY\, 12189\, United States
ATTACH;FMTTYPE=image/jpeg:https://glwillard154.org/wp-content/uploads/2023/05/c172c610-150x97-1.jpg
END:VEVENT
BEGIN:VEVENT
DTSTART;TZID=UTC:20231007T100000
DTEND;TZID=UTC:20231007T120000
DTSTAMP:20260419T224802
CREATED:20230512T133026Z
LAST-MODIFIED:20230512T133027Z
UID:3184-1696672800-1696680000@glwillard154.org
SUMMARY:October Camp Meeting
DESCRIPTION:Monthly Camp meeting at 10:00 am.
URL:https://glwillard154.org/event/october-camp-meeting
LOCATION:Watervliet Senior Citizens Center\, 1501 Broadway\, Watervliet\, NY\, 12189\, United States
ATTACH;FMTTYPE=image/jpeg:https://glwillard154.org/wp-content/uploads/2023/05/c172c610-150x97-1.jpg
END:VEVENT
BEGIN:VEVENT
DTSTART;TZID=UTC:20231104T100000
DTEND;TZID=UTC:20231104T120000
DTSTAMP:20260419T224802
CREATED:20230512T133156Z
LAST-MODIFIED:20230512T133335Z
UID:3186-1699092000-1699099200@glwillard154.org
SUMMARY:November Camp Meeting
DESCRIPTION:Monthly Camp Meeting at 10:00 am. Officer Nominations/Elections.
URL:https://glwillard154.org/event/november-camp-meeting-2
LOCATION:Watervliet Senior Citizens Center\, 1501 Broadway\, Watervliet\, NY\, 12189\, United States
ATTACH;FMTTYPE=image/jpeg:https://glwillard154.org/wp-content/uploads/2023/05/c172c610-150x97-1.jpg
END:VEVENT
BEGIN:VEVENT
DTSTART;TZID=UTC:20231202T100000
DTEND;TZID=UTC:20231202T120000
DTSTAMP:20260419T224802
CREATED:20230512T133250Z
LAST-MODIFIED:20230512T133403Z
UID:3188-1701511200-1701518400@glwillard154.org
SUMMARY:December Camp Meeting
DESCRIPTION:Monthly Camp Meeting at 10:00 am. Officer Installations.
URL:https://glwillard154.org/event/december-camp-meeting
LOCATION:Watervliet Senior Citizens Center\, 1501 Broadway\, Watervliet\, NY\, 12189\, United States
ATTACH;FMTTYPE=image/jpeg:https://glwillard154.org/wp-content/uploads/2023/05/c172c610-150x97-1.jpg
END:VEVENT
BEGIN:VEVENT
DTSTART;TZID=UTC:20240127T150000
DTEND;TZID=UTC:20240127T170000
DTSTAMP:20260419T224802
CREATED:20230512T143228Z
LAST-MODIFIED:20231113T025832Z
UID:3212-1706367600-1706374800@glwillard154.org
SUMMARY:Camp Paint and Sip Fundraiser
DESCRIPTION:Join us for a fundraiser for the camp in doing a paint and sip! AT Paint-n-Gogh in Ballston Spa\, NY! \nA portion of each ticket sale will go back to our camp. \nHere is the link: https://paintngoghbspa.as.me/willardcamp \n 
URL:https://glwillard154.org/event/camp-paint-and-sip-fundraiser
LOCATION:Paint-n-Gogh\, 114 Milton Avenue\, Ballston Spa\, NY\, 12020\, United States
ATTACH;FMTTYPE=image/jpeg:https://glwillard154.org/wp-content/uploads/2023/05/save-the-date-Jan-27-2024-Paint-n-Gogh.jpg
END:VEVENT
BEGIN:VEVENT
DTSTART;TZID=UTC:20240406T100000
DTEND;TZID=UTC:20240406T120000
DTSTAMP:20260419T224802
CREATED:20240304T144416Z
LAST-MODIFIED:20240304T144416Z
UID:3398-1712397600-1712404800@glwillard154.org
SUMMARY:Monthly Camp Meeting
DESCRIPTION:Monthly Camp meeting.
URL:https://glwillard154.org/event/monthly-camp-meeting
LOCATION:Watervliet Senior Citizens Center\, 1501 Broadway\, Watervliet\, NY\, 12189\, United States
END:VEVENT
BEGIN:VEVENT
DTSTART;TZID=UTC:20240427T100000
DTEND;TZID=UTC:20240427T120000
DTSTAMP:20260419T224802
CREATED:20240304T144849Z
LAST-MODIFIED:20240304T144849Z
UID:3402-1714212000-1714219200@glwillard154.org
SUMMARY:Camp Meeting
DESCRIPTION:Camp Meeting.
URL:https://glwillard154.org/event/camp-meeting
LOCATION:Watervliet Senior Citizens Center\, 1501 Broadway\, Watervliet\, NY\, 12189\, United States
END:VEVENT
BEGIN:VEVENT
DTSTART;TZID=UTC:20240428T110000
DTEND;TZID=UTC:20240428T140000
DTSTAMP:20260419T224802
CREATED:20240304T145504Z
LAST-MODIFIED:20240304T145504Z
UID:3404-1714302000-1714312800@glwillard154.org
SUMMARY:Grant's Tomb Ceremony
DESCRIPTION:Ceremony at 11 am hosted by the Oliver Tilden Camp No. 26 SUVCW.
URL:https://glwillard154.org/event/grants-tomb-ceremony
LOCATION:Grant’s Tomb\, Riverside and West\, New York City\, NY\, United States
END:VEVENT
BEGIN:VEVENT
DTSTART;VALUE=DATE:20240503
DTEND;VALUE=DATE:20240506
DTSTAMP:20260419T224802
CREATED:20240304T145922Z
LAST-MODIFIED:20240304T145922Z
UID:3407-1714694400-1714953599@glwillard154.org
SUMMARY:141st NY Dept Encampment SUVCW
DESCRIPTION:Annual Department Encampment\, May 3-5\, Canandaigua\, NY.
URL:https://glwillard154.org/event/141st-ny-dept-encampment-suvcw
LOCATION:American Legion Post No. 256\, 454 North Main Street\, Canadaigua\, NY\, United States
END:VEVENT
BEGIN:VEVENT
DTSTART;TZID=America/New_York:20250101T080000
DTEND;TZID=America/New_York:20251231T170000
DTSTAMP:20260419T224802
CREATED:20250211T140513Z
LAST-MODIFIED:20250211T140545Z
UID:3460-1735718400-1767200400@glwillard154.org
SUMMARY:2025 Camp Calendar of Events
DESCRIPTION:
URL:https://glwillard154.org/event/2025-calendar-of-events
END:VEVENT
BEGIN:VEVENT
DTSTART;TZID=UTC:20260317T080000
DTEND;TZID=UTC:20260317T170000
DTSTAMP:20260419T224802
CREATED:20260317T123502Z
LAST-MODIFIED:20260317T123502Z
UID:3505-1773734400-1773766800@glwillard154.org
SUMMARY:2026 Calendar of Events
DESCRIPTION:Col. George L. Willard \nCamp # 154 SUVCW \n  \n2026 Tentative Schedule \nCALENDAR – MEETINGS AND EVENTS \n  \n3 January 2026                       Camp Meeting \n7 February 2026                    Camp Meeting  \n7 March 2026                        Camp Meeting \n4 April 2026                           Camp Meeting  \n10-12 April 2026                   143rd Department Encampment -Ithaca\, NY \n26 April 2026                         Grants Tomb (New York City) 27 April 1822 \n2 May 2026                           Camp Meeting \n24 May 2026                          Oakwood Cemetery Ceremony \n24 May 2026                          Saratoga National Cemetery  \n30 May 2026                          Memorial Day @ Oakwood & Albany     \n                                                  Rural Cemeteries                                                 \n6 June 2026                           Camp Meeting \n20 June 2026                          Lincoln Luncheon\, (location TBD) \n23 July 2026                           Grant Remembrance Day (death [23rd July 1885]) at the cottage   \n30 July-2 August 2026          145th National Encampment- Gettysburg\, Penn.  \n5 September 2026                Camp Meeting  \n3 October 2026                     Camp Meeting  \n5 October 2026                     Chester Arthur’s birth (1829) Albany Rural \n? October 2026                     Department Mid-Year Meeting  \n7 November 2026                Camp Meeting  \n5 December 2026                  Camp Meeting \n12 December 2026               Wreaths Across America \n  \n  \nUpdated 16 November 2025
URL:https://glwillard154.org/event/2026-calendar-of-events
END:VEVENT
END:VCALENDAR