BEGIN:VCALENDAR
VERSION:2.0
PRODID:-//Col George L Willard Camp 154  NY SUVCW - ECPv6.15.20//NONSGML v1.0//EN
CALSCALE:GREGORIAN
METHOD:PUBLISH
X-WR-CALNAME:Col George L Willard Camp 154  NY SUVCW
X-ORIGINAL-URL:https://glwillard154.org
X-WR-CALDESC:Events for Col George L Willard Camp 154  NY SUVCW
REFRESH-INTERVAL;VALUE=DURATION:PT1H
X-Robots-Tag:noindex
X-PUBLISHED-TTL:PT1H
BEGIN:VTIMEZONE
TZID:UTC
BEGIN:STANDARD
TZOFFSETFROM:+0000
TZOFFSETTO:+0000
TZNAME:UTC
DTSTART:20170101T000000
END:STANDARD
END:VTIMEZONE
BEGIN:VEVENT
DTSTART;TZID=UTC:20180526T083000
DTEND;TZID=UTC:20180526T100000
DTSTAMP:20260421T105314
CREATED:20180519T025406Z
LAST-MODIFIED:20180519T025443Z
UID:1804-1527323400-1527328800@glwillard154.org
SUMMARY:May 26th Oakwood Cemetery Memorial Day Event
DESCRIPTION:May 26th\, Oakwood Cemetery\, Troy at 9:00 AM. We will meet at the Vanderheyden Memorial Bell at 8:30. Color Guard\, Civil War or Camp Uniform.
URL:https://glwillard154.org/event/may-26th-oakwood-cemetery-memorial-day-event
LOCATION:Oakwood Cemetery\, Troy\, NY\, United States
ORGANIZER;CN="Oakwood Cemetery%2C Troy%2C NY":MAILTO:cmdr@glwillard154.org
END:VEVENT
END:VCALENDAR