BEGIN:VCALENDAR
VERSION:2.0
PRODID:-//Col George L Willard Camp 154  NY SUVCW - ECPv6.15.20//NONSGML v1.0//EN
CALSCALE:GREGORIAN
METHOD:PUBLISH
X-ORIGINAL-URL:https://glwillard154.org
X-WR-CALDESC:Events for Col George L Willard Camp 154  NY SUVCW
REFRESH-INTERVAL;VALUE=DURATION:PT1H
X-Robots-Tag:noindex
X-PUBLISHED-TTL:PT1H
BEGIN:VTIMEZONE
TZID:UTC
BEGIN:STANDARD
TZOFFSETFROM:+0000
TZOFFSETTO:+0000
TZNAME:UTC
DTSTART:20220101T000000
END:STANDARD
END:VTIMEZONE
BEGIN:VEVENT
DTSTART;TZID=UTC:20231104T100000
DTEND;TZID=UTC:20231104T120000
DTSTAMP:20260419T223530
CREATED:20230512T133156Z
LAST-MODIFIED:20230512T133335Z
UID:3186-1699092000-1699099200@glwillard154.org
SUMMARY:November Camp Meeting
DESCRIPTION:Monthly Camp Meeting at 10:00 am. Officer Nominations/Elections.
URL:https://glwillard154.org/event/november-camp-meeting-2
LOCATION:Watervliet Senior Citizens Center\, 1501 Broadway\, Watervliet\, NY\, 12189\, United States
ATTACH;FMTTYPE=image/jpeg:https://glwillard154.org/wp-content/uploads/2023/05/c172c610-150x97-1.jpg
END:VEVENT
END:VCALENDAR