BEGIN:VCALENDAR
VERSION:2.0
PRODID:-//Col George L Willard Camp 154  NY SUVCW - ECPv6.15.20//NONSGML v1.0//EN
CALSCALE:GREGORIAN
METHOD:PUBLISH
X-ORIGINAL-URL:https://glwillard154.org
X-WR-CALDESC:Events for Col George L Willard Camp 154  NY SUVCW
REFRESH-INTERVAL;VALUE=DURATION:PT1H
X-Robots-Tag:noindex
X-PUBLISHED-TTL:PT1H
BEGIN:VTIMEZONE
TZID:UTC
BEGIN:STANDARD
TZOFFSETFROM:+0000
TZOFFSETTO:+0000
TZNAME:UTC
DTSTART:20230101T000000
END:STANDARD
END:VTIMEZONE
BEGIN:VEVENT
DTSTART;TZID=UTC:20240406T100000
DTEND;TZID=UTC:20240406T120000
DTSTAMP:20260422T173006
CREATED:20240304T144416Z
LAST-MODIFIED:20240304T144416Z
UID:3398-1712397600-1712404800@glwillard154.org
SUMMARY:Monthly Camp Meeting
DESCRIPTION:Monthly Camp meeting.
URL:https://glwillard154.org/event/monthly-camp-meeting
LOCATION:Watervliet Senior Citizens Center\, 1501 Broadway\, Watervliet\, NY\, 12189\, United States
END:VEVENT
BEGIN:VEVENT
DTSTART;TZID=UTC:20240427T100000
DTEND;TZID=UTC:20240427T120000
DTSTAMP:20260422T173006
CREATED:20240304T144849Z
LAST-MODIFIED:20240304T144849Z
UID:3402-1714212000-1714219200@glwillard154.org
SUMMARY:Camp Meeting
DESCRIPTION:Camp Meeting.
URL:https://glwillard154.org/event/camp-meeting
LOCATION:Watervliet Senior Citizens Center\, 1501 Broadway\, Watervliet\, NY\, 12189\, United States
END:VEVENT
BEGIN:VEVENT
DTSTART;TZID=UTC:20240428T110000
DTEND;TZID=UTC:20240428T140000
DTSTAMP:20260422T173006
CREATED:20240304T145504Z
LAST-MODIFIED:20240304T145504Z
UID:3404-1714302000-1714312800@glwillard154.org
SUMMARY:Grant's Tomb Ceremony
DESCRIPTION:Ceremony at 11 am hosted by the Oliver Tilden Camp No. 26 SUVCW.
URL:https://glwillard154.org/event/grants-tomb-ceremony
LOCATION:Grant’s Tomb\, Riverside and West\, New York City\, NY\, United States
END:VEVENT
END:VCALENDAR